BEGIN:VCALENDAR
VERSION:2.0
PRODID:-//Milieudefensie Jong - ECPv6.15.20//NONSGML v1.0//EN
CALSCALE:GREGORIAN
METHOD:PUBLISH
X-WR-CALNAME:Milieudefensie Jong
X-ORIGINAL-URL:https://milieudefensiejong.nl
X-WR-CALDESC:Evenementen voor Milieudefensie Jong
REFRESH-INTERVAL;VALUE=DURATION:PT1H
X-Robots-Tag:noindex
X-PUBLISHED-TTL:PT1H
BEGIN:VTIMEZONE
TZID:Europe/Amsterdam
BEGIN:DAYLIGHT
TZOFFSETFROM:+0100
TZOFFSETTO:+0200
TZNAME:CEST
DTSTART:20240331T010000
END:DAYLIGHT
BEGIN:STANDARD
TZOFFSETFROM:+0200
TZOFFSETTO:+0100
TZNAME:CET
DTSTART:20241027T010000
END:STANDARD
BEGIN:DAYLIGHT
TZOFFSETFROM:+0100
TZOFFSETTO:+0200
TZNAME:CEST
DTSTART:20250330T010000
END:DAYLIGHT
BEGIN:STANDARD
TZOFFSETFROM:+0200
TZOFFSETTO:+0100
TZNAME:CET
DTSTART:20251026T010000
END:STANDARD
BEGIN:DAYLIGHT
TZOFFSETFROM:+0100
TZOFFSETTO:+0200
TZNAME:CEST
DTSTART:20260329T010000
END:DAYLIGHT
BEGIN:STANDARD
TZOFFSETFROM:+0200
TZOFFSETTO:+0100
TZNAME:CET
DTSTART:20261025T010000
END:STANDARD
END:VTIMEZONE
BEGIN:VEVENT
DTSTART;TZID=Europe/Amsterdam:20250711T183000
DTEND;TZID=Europe/Amsterdam:20250711T183000
DTSTAMP:20260422T181955
CREATED:20250417T130121Z
LAST-MODIFIED:20250417T145533Z
UID:14250-1752258600-1752258600@milieudefensiejong.nl
SUMMARY:Zomerfeest: de bloemetjes en de beestjes 🦋🪲
DESCRIPTION:Alle beestjes naar de dansvloer: we zetten de bloemetjes buiten! 🦋🌻 \nOp vrijdag 11 juli is het weer zover: het Milieudefensie Jong Zomerfeest! Dit is hét moment waar we samen komen met iedereen die geïnteresseerd in is Milieudefensie Jong of het afgelopen jaar heeft bijgedragen. Ben jij er 🐝 ? \nProgramma (OVB\, meer info volgt na aanmelding 🐛)\n🌯 18:30 – 20:00: Inloop en samen eten\n💡 20:00 – 21:00: viering van het afgelopen jaar + verrassingsactiviteit\n🦋 21:00 – 00:00: de voetjes van de vloer \n👗 Voel je vrij om je vlindervleugels van zolder te halen of helemaal wild te gaan met de bloemmotieven. Niks hoeft\, alles kan!\n📍 Het (nieuwe) Milieudefensie Kantoor\, Willem Fenengastraat 19-23\, ingang aan het Isaac Asscherpad \nEten\, drinks & snacks zijn allemaal included. Jij hoeft alleen maar jezelf (en eventueel een +1 🐞) mee te nemen! \nMeld jou en je eventuele +1 hieronder aan!
URL:https://milieudefensiejong.nl/event/zomerfeest-2025/
LOCATION:Het nieuwe Milieudefensie-kantoor!\, Willem Fenengastraat 19-23\, Amsterdam
ATTACH;FMTTYPE=image/jpeg:https://milieudefensiejong.nl/wp-content/uploads/2025/04/vlm_6812_53853864490_o.jpg
END:VEVENT
END:VCALENDAR