BEGIN:VCALENDAR
VERSION:2.0
PRODID:-//Milieudefensie Jong - ECPv6.15.20//NONSGML v1.0//EN
CALSCALE:GREGORIAN
METHOD:PUBLISH
X-ORIGINAL-URL:https://milieudefensiejong.nl
X-WR-CALDESC:Evenementen voor Milieudefensie Jong
REFRESH-INTERVAL;VALUE=DURATION:PT1H
X-Robots-Tag:noindex
X-PUBLISHED-TTL:PT1H
BEGIN:VTIMEZONE
TZID:Europe/Amsterdam
BEGIN:DAYLIGHT
TZOFFSETFROM:+0100
TZOFFSETTO:+0200
TZNAME:CEST
DTSTART:20240331T010000
END:DAYLIGHT
BEGIN:STANDARD
TZOFFSETFROM:+0200
TZOFFSETTO:+0100
TZNAME:CET
DTSTART:20241027T010000
END:STANDARD
BEGIN:DAYLIGHT
TZOFFSETFROM:+0100
TZOFFSETTO:+0200
TZNAME:CEST
DTSTART:20250330T010000
END:DAYLIGHT
BEGIN:STANDARD
TZOFFSETFROM:+0200
TZOFFSETTO:+0100
TZNAME:CET
DTSTART:20251026T010000
END:STANDARD
BEGIN:DAYLIGHT
TZOFFSETFROM:+0100
TZOFFSETTO:+0200
TZNAME:CEST
DTSTART:20260329T010000
END:DAYLIGHT
BEGIN:STANDARD
TZOFFSETFROM:+0200
TZOFFSETTO:+0100
TZNAME:CET
DTSTART:20261025T010000
END:STANDARD
END:VTIMEZONE
BEGIN:VEVENT
DTSTART;TZID=Europe/Amsterdam:20250402T180000
DTEND;TZID=Europe/Amsterdam:20250402T223000
DTSTAMP:20260422T224533
CREATED:20250327T122411Z
LAST-MODIFIED:20250327T123750Z
UID:14100-1743616800-1743633000@milieudefensiejong.nl
SUMMARY:Lokale groep Utrecht: Potluck Dinner 🥘🥗
DESCRIPTION:Potluck Dinner van Milieudefensie Jong Utrecht 🥘🍽🥗\n\nOp woensdag 2 april gaan we kijken hoe we de komende tijd bij de lokale groep Utrecht aan de slag willen en introduceren we een samenwerking met de lokale groep van MD retro. Meld je hieronder even aan! \nVoor wie wilt is er een laptop om de AVA training te volgen 💻 \n\n\nNeem je favoriete vegan gerecht en +1 mee 😊\n\n🗓 woensdag 2 april\n\n📍 Hart van Hoograven\n🕕 18:00 inloop\n🍜 18:30 eten en programma\n\n💤 22:30 écht klaar \n 
URL:https://milieudefensiejong.nl/event/lokale-groep-utrecht-potluck/
LOCATION:Hart van Hoograven\, Goylaan 77\, Utrecht
CATEGORIES:Lokale Groep
ATTACH;FMTTYPE=image/jpeg:https://milieudefensiejong.nl/wp-content/uploads/2025/03/RS69670_MW_6K7A2108_©-Marieke-Wijntjes-Milieudefensie-scaled.jpg
END:VEVENT
BEGIN:VEVENT
DTSTART;TZID=Europe/Amsterdam:20250403T190000
DTEND;TZID=Europe/Amsterdam:20250403T213000
DTSTAMP:20260422T224533
CREATED:20250126T150350Z
LAST-MODIFIED:20250323T093522Z
UID:13586-1743706800-1743715800@milieudefensiejong.nl
SUMMARY:Dé lancering van Kaarten tegen Klimaatstress 🃏🎖️
DESCRIPTION:Klimaatstress. We voelen het allemaal\, maar hoe praat je erover zonder dat het zwaar op de maag ligt? Wij hebben de oplossing: een spel dat dit urgente onderwerp bespreekbaar maakt met humor\, een vleugje cynisme en een flinke korrel zout! \nOp 3 april lanceren we dé must-have voor elke spelletjesavond: het gloednieuwe Kaarten tegen Klimaatstress-spel! Een unieke manier om samen te lachen\, leren en het gesprek over klimaatstress op gang te brengen. \nOnder het genot van een drankje en vegan borrelhap nemen wij jullie graag mee door het spel en spelen we het officiële spel voor de allereerste keer! \n⚠️ 📍 Het nieuwe Milieudefensie-kantoor! Willem Fenengastraat 19-23\, Amsterdam\n📅 ⏰ 3 april\, 19:00-21:30\n🥂✨ Inclusief drinks & borrelhapjes
URL:https://milieudefensiejong.nl/event/kaarten-tegen-klimaatstress-launch/
LOCATION:Het nieuwe Milieudefensie-kantoor!\, Willem Fenengastraat 19-23\, Amsterdam
CATEGORIES:Kick-off,Milieudefensie Jong
ATTACH;FMTTYPE=image/jpeg:https://milieudefensiejong.nl/wp-content/uploads/2025/01/RS71263_vlm_6815_53853793689_o.jpg
END:VEVENT
BEGIN:VEVENT
DTSTART;TZID=Europe/Amsterdam:20250409T100000
DTEND;TZID=Europe/Amsterdam:20250409T170000
DTSTAMP:20260422T224533
CREATED:20250211T151318Z
LAST-MODIFIED:20250317T205539Z
UID:13812-1744192800-1744218000@milieudefensiejong.nl
SUMMARY:AVA Ahold Delhaize 🐹📢
DESCRIPTION:We mogen weer! Het jaarlijkse feestje van grote vervuilende bedrijven gaat komend voorjaar van start. Uiteraard staan wij in de startblokken om weer een onvergetelijke indruk achter te laten. Ga je ook (weer) mee? \nMisschien ga je voor het eerst\, wellicht was je er eerdere jaren al bij. Ook dit jaar gaan wij als Milieudefensie Jong naar de AVAs (Algemene Vergadering van Aandeelhouders). We gaan zowel binnen als activistische aandeelhouder ons punt maken\, als buiten feestelijk actievoeren. De Ahold Delhaize AVA wordt een extra groot feestje\, want met Milieudefensie Jong gaan we voor de 5e keer. En dat vieren we o.a. met een spectaculaire buitenactie 🎉😈 \nWil je mee naar binnen? Onderneem dan de volgende stappen: \n1️⃣ Meld je aan via onderstaand formulier.\n2️⃣ Koop een aandeel. Hoe? Je krijgt na je aanmelding een mail met instructies.\n3️⃣ Wordt dit je eerste AVA? Volg dan een actietraining!
URL:https://milieudefensiejong.nl/event/ava-ahold-delhaize/
LOCATION:Zaantheater\, Nicolaasstraat 3\, Zaandam\, 1506BB
CATEGORIES:Aandeelhoudersvergaderingen,Actie,AVA's 2025
ATTACH;FMTTYPE=image/jpeg:https://milieudefensiejong.nl/wp-content/uploads/2025/02/DSC_4359_edit-scaled.jpg
END:VEVENT
BEGIN:VEVENT
DTSTART;TZID=Europe/Amsterdam:20250410T200000
DTEND;TZID=Europe/Amsterdam:20250410T213000
DTSTAMP:20260422T224533
CREATED:20250311T160751Z
LAST-MODIFIED:20250317T205630Z
UID:13970-1744315200-1744320600@milieudefensiejong.nl
SUMMARY:Milieudefensie on Tour 🦁
DESCRIPTION:Ben jij er ook klaar mee? Grote bedrijven die meer energie steken in greenwashing dan in échte klimaatoplossingen? Kom dan naar Milieudefensie on Tour op 10 april\, met in de hoofdrol ING. Een avond vol hoop\, humor en energie. \nDeze keer is het thema: code oranje\, want ING (sponsor van Oranje) staat centraal.\n💰ING zegt: ‘Duurzaamheid is belangrijk.’\n💨 Ondertussen blijft de bank miljarden steken in de grootste vervuilers.\n🤔 Zie je de logica? Wij ook niet. \nDaarom zetten we onze Klimaatzaak tegen ING door. Op 28 maart leveren we ING de dagvaarding. Dat is de officiële start van onze Klimaatzaak. \nKom 10 april naar Milieudefensie on Tour in Utrecht. Ontdek waarom onze zaak tegen ING zo belangrijk is\, en wat ING nu (niet goed) doet. En natuurlijk wat jij zelf kan doen. Verlaat de avond met een vracht aan argumenten waarmee je tijdens de paasbrunch je oom Theo moeiteloos onder de tafel lult. Een gezellige avond uit\, vol gelijkgestemden\, die energie geeft. \nDit is Milieudefensie On Tour\nIngewikkelde zaken\, zoals gevaarlijke klimaatverandering uitgelegd\, maar dan zonder saaie grafieken en droge cijfers. ⚡Vervuilers zijn sterk\, met z’n allen zijn wij sterker. Kom lachen\, ontmoet leuke mensen en ontdek hoe jij mee(r) kan doen. \n💡 Praktisch\nWanneer: donderdag 10 april 2025\nHoe laat:\n19:15 uur – deuren open\n20:00 uur – aanvang programma\n21:30 uur – einde programma; start borrel\nWaar: Tivoli\, Hertz Zaal\, Vredenburgkade 11\, Utrecht \nScoor je ticket en mis het niet!\n\nAlle tickets zijn inclusief een gratis drankje. Koop een Basisticket (€5)\, steun de Klimaatzaak met een Regulier ticket (€10)\, of word supporter (€50) en ontvang naast je toegangskaartje het Climate Justice tour T-shirt. \n\n \nWil je het evenement graag bijwonen maar is het voor jou niet mogelijk om een kaartje aan te schaffen? Neem gerust contact met ons op om samen te kijken naar de opties!
URL:https://milieudefensiejong.nl/event/md-on-tour-april-25/
LOCATION:TivoliVredenburg\, Vredenburgkade 11\, Utrecht\, Netherlands
CATEGORIES:MD on Tour
ATTACH;FMTTYPE=image/jpeg:https://milieudefensiejong.nl/wp-content/uploads/2025/03/RS70960_12-04-2024-MilieudefensieOnTour-Rotterdam84__byWardMevis-scaled.jpg
END:VEVENT
BEGIN:VEVENT
DTSTART;TZID=Europe/Amsterdam:20250417T183000
DTEND;TZID=Europe/Amsterdam:20250417T213000
DTSTAMP:20260422T224533
CREATED:20250325T124353Z
LAST-MODIFIED:20250410T101755Z
UID:14091-1744914600-1744925400@milieudefensiejong.nl
SUMMARY:AVA Debrief: Klimaatspelletjesavond 🍕🧩
DESCRIPTION:Op 17 april organiseert de communitycommissie een spelletjesavond  🎲 🧩. Hier kunnen we de AVA van Ahold Delhaize van 9 april nabespreken en gezellig samen spelletjes spelen onder het genot van pizza 🍕 Ook als je niet bij deze actie aanwezig kon zijn ben je natuurlijk van harte welkom! Naast het nieuwe spel Kaarten tegen Klimaatstress zullen wij ook zorgen voor andere (klimaatgerelateerde) spelletjes\, maar voel je vrij om zelf leuke spellen mee te nemen 😎 . Meld je hieronder even aan zodat we weten hoeveel pizza we moeten regelen 🧑‍🍳 \nLet op! Dit evenement vindt plaats op het nieuwe kantoor van Milieudefensie vanaf 18:30. Willem Fenengastraat 19-23\, ingang aan het Isaäc Asscherpad. \n\n						\n						\n 
URL:https://milieudefensiejong.nl/event/klimaatspelletjesavond/
LOCATION:Het nieuwe Milieudefensie-kantoor!\, Willem Fenengastraat 19-23\, Amsterdam
ATTACH;FMTTYPE=image/jpeg:https://milieudefensiejong.nl/wp-content/uploads/2025/03/RS71258_vlm_6867_53852541202_o.jpg
END:VEVENT
BEGIN:VEVENT
DTSTART;TZID=Europe/Amsterdam:20250422T100000
DTEND;TZID=Europe/Amsterdam:20250422T170000
DTSTAMP:20260422T224533
CREATED:20250211T151615Z
LAST-MODIFIED:20250317T205508Z
UID:13817-1745316000-1745341200@milieudefensiejong.nl
SUMMARY:AVA ING 🦁📢
DESCRIPTION:Misschien ga je voor het eerst\, wellicht was je er eerdere jaren al bij. Ook dit jaar gaan wij als Milieudefensie Jong naar de AVAs (Algemene Vergadering van Aandeelhouders). We gaan zowel binnen als activistische aandeelhouder ons punt maken\, als buiten feestelijk actievoeren. \nWil je mee naar binnen? Onderneem dan de volgende stappen: \n1️⃣ Meld je aan via onderstaand formulier.\n2️⃣ Koop een aandeel. Hoe? Je krijgt na je aanmelding een mail met instructies.\n3️⃣ Wordt dit je eerste AVA? Volg dan een actietraining!
URL:https://milieudefensiejong.nl/event/ava-ing-2025/
LOCATION:Muziekgebouw aan ’t IJ\, Piet Heinkade 1\, Amsterdam\, 1019BR
CATEGORIES:Aandeelhoudersvergaderingen,Actie,AVA's 2025
ATTACH;FMTTYPE=image/jpeg:https://milieudefensiejong.nl/wp-content/uploads/2025/02/3r8a1785_53808121334_o-scaled.jpg
END:VEVENT
END:VCALENDAR