BEGIN:VCALENDAR
VERSION:2.0
PRODID:-//Milieudefensie Jong - ECPv6.15.20//NONSGML v1.0//EN
CALSCALE:GREGORIAN
METHOD:PUBLISH
X-ORIGINAL-URL:https://milieudefensiejong.nl
X-WR-CALDESC:Evenementen voor Milieudefensie Jong
REFRESH-INTERVAL;VALUE=DURATION:PT1H
X-Robots-Tag:noindex
X-PUBLISHED-TTL:PT1H
BEGIN:VTIMEZONE
TZID:Europe/Amsterdam
BEGIN:DAYLIGHT
TZOFFSETFROM:+0100
TZOFFSETTO:+0200
TZNAME:CEST
DTSTART:20240331T010000
END:DAYLIGHT
BEGIN:STANDARD
TZOFFSETFROM:+0200
TZOFFSETTO:+0100
TZNAME:CET
DTSTART:20241027T010000
END:STANDARD
BEGIN:DAYLIGHT
TZOFFSETFROM:+0100
TZOFFSETTO:+0200
TZNAME:CEST
DTSTART:20250330T010000
END:DAYLIGHT
BEGIN:STANDARD
TZOFFSETFROM:+0200
TZOFFSETTO:+0100
TZNAME:CET
DTSTART:20251026T010000
END:STANDARD
BEGIN:DAYLIGHT
TZOFFSETFROM:+0100
TZOFFSETTO:+0200
TZNAME:CEST
DTSTART:20260329T010000
END:DAYLIGHT
BEGIN:STANDARD
TZOFFSETFROM:+0200
TZOFFSETTO:+0100
TZNAME:CET
DTSTART:20261025T010000
END:STANDARD
END:VTIMEZONE
BEGIN:VEVENT
DTSTART;TZID=Europe/Amsterdam:20250313T180000
DTEND;TZID=Europe/Amsterdam:20250313T180000
DTSTAMP:20260423T001306
CREATED:20250303T122118Z
LAST-MODIFIED:20250303T123101Z
UID:13936-1741888800-1741888800@milieudefensiejong.nl
SUMMARY:In gesprek met VN Jongerenvertegenwoordigers 🌿🤝
DESCRIPTION:Op donderdag 13 maart komen de twee VN Jongerenvertegenwoordigers voor Duurzame Ontwikkeling (Sarah Nasrawi en Tommy Blomvliet)  langs op het kantoor van Milieudefensie. Zij vertegenwoordigen de stem van Nederlandse jongeren in nationale en internationale politiek. Dit is een vrij grote klus\, met de vraag: wat vinden Nederlandse jongeren? Hierom proberen ze veel verschillende jongerenorganisaties\, instituten en politieke partijen te spreken. Ze willen graag met ons in gesprek over klimaatrechtvaardigheid in de voedselsector. \nDeze input kunnen zij meenemen naar de nationale en internationale politiek. Dit doen zij onder andere door jaarlijks in gesprek te gaan met de Minister voor Klimaat en Groene Groei en als onderdeel van de Nederlandse delegatie naar de VN-klimaattoppen. Hoe meer jongeren ze spreken\, hoe beter ze die stem kunnen laten horen! \n\n\n\n⏰ Programma:\n18.00 – 18.15 inloop\n18.15 – 18.50 eten\n18.50 – 19.00 opruimen + inloop voor mensen die niet mee eten\n19.00 – 21.00 input sessie\n\n21.00 – 21.45 kleine borrel \n⬇️ Meld je aan!
URL:https://milieudefensiejong.nl/event/input-vn-jongeren/
LOCATION:Het kantoor van Milieudefensie\, Willem Fenengastraat 19-23\, Amsterdam\, 1096 BL\, Netherlands
ATTACH;FMTTYPE=image/jpeg:https://milieudefensiejong.nl/wp-content/uploads/2025/03/RS71931_DSC06161-scaled.jpg
END:VEVENT
BEGIN:VEVENT
DTSTART;TZID=Europe/Amsterdam:20250321T194500
DTEND;TZID=Europe/Amsterdam:20250321T220000
DTSTAMP:20260423T001306
CREATED:20250225T135429Z
LAST-MODIFIED:20250317T205923Z
UID:13911-1742586300-1742594400@milieudefensiejong.nl
SUMMARY:Once You Care Screening 🎬🍿
DESCRIPTION:Once You Care on Tour komt naar naar Twente\, Groningen en Zwolle! \nOp vrijdagavond 21 maart nodigen we je uit voor een bijzonder event rondom de documentaire Once You Care. In deze film volgt actrice en schrijver Gaite Jansen (Peaky Blinders\, Happy Ending) haar eigen zoektocht in de klimaatbeweging. Hoe overwin je twijfel en ongemak? Moet je jezelf per se een activist noemen om verschil te maken? \nMeer details en aanmelden via  de website van Milieudefensie. 🔗 \n 
URL:https://milieudefensiejong.nl/event/lokale-groep-groningen-once-you-care-screening-%f0%9f%8e%ac%f0%9f%8d%bf/
LOCATION:Forum Groningen
CATEGORIES:Lokale Groep
ATTACH;FMTTYPE=image/jpeg:https://milieudefensiejong.nl/wp-content/uploads/2025/02/RS71011_3R8A2237-scaled.jpg
END:VEVENT
BEGIN:VEVENT
DTSTART;TZID=Europe/Amsterdam:20250328T100000
DTEND;TZID=Europe/Amsterdam:20250328T110000
DTSTAMP:20260423T001306
CREATED:20250304T122221Z
LAST-MODIFIED:20250319T095344Z
UID:13943-1743156000-1743159600@milieudefensiejong.nl
SUMMARY:Dagvaarding ING: mars naar het hoofdkantoor 🦁🪧
DESCRIPTION:De Klimaatzaak tegen ING gaat los! 🦁 ⚖\n\nOp 28 maart om 10:00 bezorgen wij een enorm document met al het inhoudelijk bewijs (dagvaarding*) aan ING. En daar hebben we jou bij nodig! Want dit is óók jouw zaak. Ben jij erbij op deze speciale dag? \n\nING: bankier van de klimaatcrisis\n\nIedereen heeft wel eens zo’n oranje pasje gezien. Misschien heb jij je eerste rekening bij ING geopend. En ING is de bankier van de overheid\, dus we kunnen er sowieso niet omheen. Maar de leeuw staat flink in zijn hemd: ING blijft investeren in fossiele brandstoffen en steekt hier veel meer geld in dan andere Nederlandse banken. Hoe dan!? \n\n\nMet onze advocaten\, klimaatwetenschapppers en iedereen die de rechtszaak steunt zeggen wij luid en duidelijk: genoeg is genoeg! Daarom bezorgen we ING een dik pakket bewijsstukken\, samen met onze eisen. Zo laten we zien hoe ING de klimaatcrisis verergert en dat de bank verantwoordelijkheid moet nemen. \n\n📍 Praktisch: We verzamelen bij Hoekenrodeplein bij Station Bijlmer Arena om 10:00 uur. We lopen in een mars naar het ING-hoofdkantoor en bezorgen samen de bewijsstukken. We zijn op zoek naar mensen die een infobord met wetenschappelijk bewijs willen dragen \n\n\n*Een dagvaarding is een officieel document van 300-400 pagina’s waarin we uitleggen waarom ING’s beleid tekortschiet en waarom het nodig is dat ING aan onze eisen gaat voldoen.
URL:https://milieudefensiejong.nl/event/dagvaarding-ing/
LOCATION:Station Bijlmer ArenA
ATTACH;FMTTYPE=image/jpeg:https://milieudefensiejong.nl/wp-content/uploads/2025/03/RS71465_7O2A0027-scaled.jpg
END:VEVENT
END:VCALENDAR