BEGIN:VCALENDAR
VERSION:2.0
PRODID:-//Milieudefensie Jong - ECPv6.15.20//NONSGML v1.0//EN
CALSCALE:GREGORIAN
METHOD:PUBLISH
X-WR-CALNAME:Milieudefensie Jong
X-ORIGINAL-URL:https://milieudefensiejong.nl
X-WR-CALDESC:Evenementen voor Milieudefensie Jong
REFRESH-INTERVAL;VALUE=DURATION:PT1H
X-Robots-Tag:noindex
X-PUBLISHED-TTL:PT1H
BEGIN:VTIMEZONE
TZID:Europe/Amsterdam
BEGIN:DAYLIGHT
TZOFFSETFROM:+0100
TZOFFSETTO:+0200
TZNAME:CEST
DTSTART:20240331T010000
END:DAYLIGHT
BEGIN:STANDARD
TZOFFSETFROM:+0200
TZOFFSETTO:+0100
TZNAME:CET
DTSTART:20241027T010000
END:STANDARD
BEGIN:DAYLIGHT
TZOFFSETFROM:+0100
TZOFFSETTO:+0200
TZNAME:CEST
DTSTART:20250330T010000
END:DAYLIGHT
BEGIN:STANDARD
TZOFFSETFROM:+0200
TZOFFSETTO:+0100
TZNAME:CET
DTSTART:20251026T010000
END:STANDARD
BEGIN:DAYLIGHT
TZOFFSETFROM:+0100
TZOFFSETTO:+0200
TZNAME:CEST
DTSTART:20260329T010000
END:DAYLIGHT
BEGIN:STANDARD
TZOFFSETFROM:+0200
TZOFFSETTO:+0100
TZNAME:CET
DTSTART:20261025T010000
END:STANDARD
END:VTIMEZONE
BEGIN:VEVENT
DTSTART;TZID=Europe/Amsterdam:20250208T133000
DTEND;TZID=Europe/Amsterdam:20250208T170000
DTSTAMP:20260423T013944
CREATED:20241212T142414Z
LAST-MODIFIED:20250126T175923Z
UID:13418-1739021400-1739034000@milieudefensiejong.nl
SUMMARY:⚔️ Campagnedag 2025 ⚔️
DESCRIPTION:Op 8 februari 2025 vind de volgende campagnedag plaats! Op de campagnedag ontmoeten we elkaar in Utrecht\, samen met Milieudefensie. Naast updates van Milieudefensie gaan we op deze dag ook met elkaar van Milieudefensie Jong om de tafel om te brainstormen over de acties komend jaar!\nAanmelden gaat via de website van Milieudefensie ➡️ https://veranderaars.milieudefensie.nl/agenda/campagnemiddag-februari-2025/
URL:https://milieudefensiejong.nl/event/campagnedag-2025/
LOCATION:Boothstraat 7\, Utrecht
CATEGORIES:Milieudefensie Jong
ATTACH;FMTTYPE=image/jpeg:https://milieudefensiejong.nl/wp-content/uploads/2024/11/RS71421_MW_8765-scaled.jpg
END:VEVENT
BEGIN:VEVENT
DTSTART;TZID=Europe/Amsterdam:20250213T130000
DTEND;TZID=Europe/Amsterdam:20250213T160000
DTSTAMP:20260423T013944
CREATED:20250203T224659Z
LAST-MODIFIED:20250203T224950Z
UID:13789-1739451600-1739462400@milieudefensiejong.nl
SUMMARY:Actie: 13.733 klimaatkaarten voor Ahold 📮
DESCRIPTION:Ahold\, you’ve got mail! Duizenden veranderaars stuurden een kritische kaart naar Ahold (https://milieudefensie.nl/klimaatkaart) en wij gaan deze kaarten aanbieden.\nOp donderdag 13 februari om 13:00 staan wij met vele winkelmandjes vol met post klaar voor het hoofdkantoor van Ahold in Zaandam. Want Ahold doet nog steeds te weinig om haar uitstoot te verminderen en zich te houden aan het klimaatakkoord van Parijs. Als de boodschap van de klimaatcrisis niet aankomt bij Ahold\, dan brengen wij de boodschap toch naar het kantoor?\nBen jij erbij om Ahold wakker te schudden met een grote berg post? \nAanmelden kan via de site van Milieudefensie ➡️ Klik hier om je aan te melden!
URL:https://milieudefensiejong.nl/event/actie-13-733-klimaatkaarten-voor-ahold-%f0%9f%93%ae/
LOCATION:Hoofdkantoor Ahold Delhaize\, Provincialeweg 11\, Zaandam\, Noord-Holland\, 1506 MA\, Netherlands
CATEGORIES:Actie
ATTACH;FMTTYPE=image/jpeg:https://milieudefensiejong.nl/wp-content/uploads/2025/02/RS68782_AholdSchrijven-6678-3-scaled.jpg
END:VEVENT
BEGIN:VEVENT
DTSTART;TZID=Europe/Amsterdam:20250228T150000
DTEND;TZID=Europe/Amsterdam:20250228T180000
DTSTAMP:20260423T013944
CREATED:20250203T225424Z
LAST-MODIFIED:20250203T230421Z
UID:13794-1740754800-1740765600@milieudefensiejong.nl
SUMMARY:Actie: 12.969 klimaatkaarten voor Unilever 📮
DESCRIPTION:Unilever\, you’ve got mail! Duizenden veranderaars stuurden een kritische kaart naar Unilever (https://milieudefensie.nl/klimaatkaart) en wij gaan deze kaarten aanbieden.\nOp vrijdag 28 februari om 15:00 staan wij met onze post klaar voor het hoofdkantoor van Unilever in Rotterdam. Want Unilever doet nog steeds te weinig om haar uitstoot te verminderen en zich te houden aan het klimaatakkoord van Parijs. Als de boodschap van de klimaatcrisis niet aankomt bij Unilever\, dan brengen wij deze toch naar het kantoor?\nBen jij erbij? \nAanmelden kan via de site van Milieudefensie ➡️ Klik hier om je aan te melden!
URL:https://milieudefensiejong.nl/event/actie-12-969-klimaatkaarten-voor-unilever-%f0%9f%93%ae/
LOCATION:Hoofdkantoor Unilever\, Weena 445\, Rotterdam\, Zuid-Holland\, 3013 AL\, Netherlands
CATEGORIES:Actie
ATTACH;FMTTYPE=image/jpeg:https://milieudefensiejong.nl/wp-content/uploads/2025/02/RS71313_3r8a2447_53799875880_o-scaled.jpg
END:VEVENT
END:VCALENDAR