BEGIN:VCALENDAR
VERSION:2.0
PRODID:-//Milieudefensie Jong - ECPv6.15.20//NONSGML v1.0//EN
CALSCALE:GREGORIAN
METHOD:PUBLISH
X-WR-CALNAME:Milieudefensie Jong
X-ORIGINAL-URL:https://milieudefensiejong.nl
X-WR-CALDESC:Evenementen voor Milieudefensie Jong
REFRESH-INTERVAL;VALUE=DURATION:PT1H
X-Robots-Tag:noindex
X-PUBLISHED-TTL:PT1H
BEGIN:VTIMEZONE
TZID:Europe/Amsterdam
BEGIN:DAYLIGHT
TZOFFSETFROM:+0100
TZOFFSETTO:+0200
TZNAME:CEST
DTSTART:20230326T010000
END:DAYLIGHT
BEGIN:STANDARD
TZOFFSETFROM:+0200
TZOFFSETTO:+0100
TZNAME:CET
DTSTART:20231029T010000
END:STANDARD
BEGIN:DAYLIGHT
TZOFFSETFROM:+0100
TZOFFSETTO:+0200
TZNAME:CEST
DTSTART:20240331T010000
END:DAYLIGHT
BEGIN:STANDARD
TZOFFSETFROM:+0200
TZOFFSETTO:+0100
TZNAME:CET
DTSTART:20241027T010000
END:STANDARD
BEGIN:DAYLIGHT
TZOFFSETFROM:+0100
TZOFFSETTO:+0200
TZNAME:CEST
DTSTART:20250330T010000
END:DAYLIGHT
BEGIN:STANDARD
TZOFFSETFROM:+0200
TZOFFSETTO:+0100
TZNAME:CET
DTSTART:20251026T010000
END:STANDARD
END:VTIMEZONE
BEGIN:VEVENT
DTSTART;TZID=Europe/Amsterdam:20241202T183000
DTEND;TZID=Europe/Amsterdam:20241202T210000
DTSTAMP:20260423T045628
CREATED:20241126T125343Z
LAST-MODIFIED:20241126T125343Z
UID:13253-1733164200-1733173200@milieudefensiejong.nl
SUMMARY:Klimaatpraat Knutselavond 🎨🍻🎄
DESCRIPTION:🎨 Klimaatpraat Knutselavond – maandag 2 december: \n\nVoel je je ook overweldigd door de heftige maand die we achter de rug hebben? Kom dan op 2 december samen eten\, borrelen en je ervaringen delen met anderen die snappen hoe jij je voelt! 🍜\nWe zetten onze energie om in creatieve actie – samen knutselen we voor Unilevers kerstmarkt. Maak impact op een gezellige manier! ✊🎄\n\nEr is vegan eten aanwezig!\nMeld je hier aan\, zodat we weten op hoeveel mensen we moeten rekenen. \nReiskosten worden vergoed.
URL:https://milieudefensiejong.nl/event/knutsel-en-gezelligheid/
LOCATION:Het kantoor van Milieudefensie\, Willem Fenengastraat 19-23\, Amsterdam\, 1096 BL\, Netherlands
CATEGORIES:Kick-off
ATTACH;FMTTYPE=image/jpeg:https://milieudefensiejong.nl/wp-content/uploads/2024/11/RS71443_MW_8984-web-scaled.jpg
END:VEVENT
BEGIN:VEVENT
DTSTART;TZID=Europe/Amsterdam:20241212T190000
DTEND;TZID=Europe/Amsterdam:20241212T213000
DTSTAMP:20260423T045628
CREATED:20241121T130430Z
LAST-MODIFIED:20241211T215653Z
UID:13244-1734030000-1734039000@milieudefensiejong.nl
SUMMARY:🌐 MDJ x ILM: COP Aftertalks 🌐
DESCRIPTION:[This event is in English\, Dutch info below] \nAre you curious about what exactly happens at COP and what challenges youth and indigenous peoples face in making their voices heard? Indigenous Liberation Movement and Milieudefensie Jong have come together to raise awareness about these challenges. \nThe COP is the largest climate conference in the world\, and this year marks its 29th edition. World leaders\, major financial institutions\, NGOs\, and activist groups gather to help decide global climate policy.\nBut how does COP actually work? Who exactly attends\, and with what intentions? What decisions are made\, and who makes them? And how should we interpret the results of COP29? \nOn December 12\, we will dive into these questions and many more with two different panels of experts and activists. A key focus will be on the representation of youth and indigenous peoples. The event is held in English. \nPanel I: Understanding COP \n\nDaniëlle Hirsch\, Member of Parliament for GroenLinks-PvdA\, responsible for International Trade and Development Cooperation\nPieter Pauw\, Senior Researcher and Policy Advisor in international climate policy at the Clingendael Institute and TU/e\nChautuileo Tranamil\, Indigenous Activist and Co-founder of the Indigenous Liberation Movement\n\nPanel II: Who is heard at COP? And who is not? \n\nMyra Colis\, Advocate for Women’s and Indigenous People’s Rights at MABIKAs Foundation\nMert Kumru\, Campaigner at World’s Youth for Climate\nMelati Wijsen\, Founder of Youthtopia\, Bye Bye Plastic Bags\, Mountain Mamas\, among other initiatives\n\nLocation: Halvemaanpassage 90\, Rotterdam \nTime: 19:30 – 21:30 (walk-in at 19:00) \nThe event is completely free of charge but we encourage you to make a donation to Indigenous Liberation Movement to sponsor their trip to COP30. We will provide you with delicious bites. \nWe look forward to seeing you there! 🌱 \nClick here to sign up! \n[DUTCH] \nBen je benieuwd naar wat er precies op de COP gebeurt en wat de uitdagingen zijn voor jongeren en inheemsen om hun stem te laten horen? Indigenous Liberation Movement en Milieudefensie Jong hebben de handen ineen geslagen om meer mensen hiervan bewust te maken. \nDe COP is de grootste klimaatconferentie ter wereld en dit jaar is de 29e editie. Wereldleiders\, grote financiële instellingen\, NGO’s en actiegroepen komen erop af om mee te beslissen over mondiaal klimaatbeleid. \nMaar hoe werkt de COP eigenlijk? Wie komen er precies naartoe\, en met welke bedoelingen? Wat wordt er besloten en wie maken die beslissingen? En hoe moeten we de resultaten van COP29 interpreteren? \nOp 12 december zullen wij met twee verschillende panels van experts en ervaringsdeskundigen op deze vragen en nog veel meer ingaan. Daarbij staat de representatie van jongeren en inheemse volkeren centraal. Het evenement is in het Engels. \nPanel I: Understanding COP \n\nDaniëlle Hirsch\, Kamerlid Groenlinks-PvdA met portefeuille Internationale Handel en Ontwikkelingssamenwerking\nPieter Pauw\, senior researcher and policy advisor op het gebied van internationaal klimaatbeleid bij Instituut Clingendael en de TU/e\nChautuileo Tranamil\, inheemse activist en mede-oprichter Indigenous Liberation Movement\n\nPanel II: who is heard at COP? And who is not? \n\nMyra Colis\, inheemse activist em advocate for women’s and Indigenous People’s Rights bij stichting MABIKAs\nMert Kumru\, campaigner World’s Youth for Climate\nMelati Wijsen\, onder andere oprichter van Youthtopia\, Bye Bye Plastic Bags\, Mountain Mamas\n\nLocatie: Halvemaanpassage 90\, Rotterdam \nTijd: 19:30 – 21:30 (inloop 19:00) \nDit evenement is helemaal gratis maar we moedigen je aan om een donatie te doen. Hiermee sponsor je de reis van inheemse activisten naar COP30. Wij verzorgen voor iedereen heerlijke hapjes! \nWe zien je graag daar! 🌱 \nKlik hier om je aan te melden! \n 
URL:https://milieudefensiejong.nl/event/mdj-x-ilm-cop/
LOCATION:Halvemaanpassage 90\, Rotterdam
CATEGORIES:Milieudefensie Jong
ATTACH;FMTTYPE=image/png:https://milieudefensiejong.nl/wp-content/uploads/2024/11/cop-after.png
END:VEVENT
BEGIN:VEVENT
DTSTART;TZID=Europe/Amsterdam:20241219T183000
DTEND;TZID=Europe/Amsterdam:20241219T220000
DTSTAMP:20260423T045628
CREATED:20241111T163520Z
LAST-MODIFIED:20241209T134535Z
UID:13212-1734633000-1734645600@milieudefensiejong.nl
SUMMARY:🎬 Filmavond: Once You Care 🎬
DESCRIPTION:Donderdagavond 19 december draaien we de docu Once You Care met een tof nagesprek en borrel 🍻 in Utrecht\, in het Louis Hartlooper Complex 🤩 \nOver de film:\nIn Once You Care onderzoekt Gaite Jansen samen met Milieudefensie wat activisme voor haar betekent en of ze zichzelf als activist ziet. In de docu maken sommige van onze eigen MD Jong’eren een guest appearance! \nOver de avond:\nDeze filmavond is een goede eerste kennismaking met Milieudefensie Jong voor jongeren die ons net hebben gevonden en eens willen zien wat we samen kunnen bereiken ✊\nMaar ook voor onze trouwe actieverds (🥰) wordt het een super interessante avond waar we na de film in gesprek gaan met super toffe sprekers: \n\nMaartje Bregman\, @lifeofmaart\, Klimaatoptimist en hoofdredacteur van Happy Times Magazine: hét platform vol positief nieuws & verhalen van impactmakers ☘️✨💓\nNanzine Nahar is klimaatactivist\, gevestigd in Bangladesh. Ze werkt voor International Centre for Climate Change and Development en was een van de winnaars van de “Women and Earth Award 2020” en de “Gender Just Climate Solution Pilot Scaling Award 2021”. 🏆✨\nIsabelle Tomlow\, oud-coordinator Campagne van Milieudefensie Jong\, & features in de documentaire. Als het op acties aankomt is Isabelle bij Milieudefensie Jong een regelrechte veteraan. CEO’s van de grote vervuilers are sweating en kennen Isabelle ondertussen bij naam 😮‍💨\n\nProgramma: \n19:00 Inloop\n19:15 Zaal open\n19:30 Start film\n20:00 Nagesprek met gastsprekers\n20:30 Kennismakingsborrel\n21:30 Eind \nMeld je hier aan!
URL:https://milieudefensiejong.nl/event/filmavond-once-you-care/
LOCATION:Louis Hartlooper Complex\, Tolsteegbrug 1\, Utrecht
CATEGORIES:Kick-off,Milieudefensie Jong
ATTACH;FMTTYPE=image/jpeg:https://milieudefensiejong.nl/wp-content/uploads/2024/11/hq720.jpg
END:VEVENT
BEGIN:VEVENT
DTSTART;TZID=Europe/Amsterdam:20241221T150000
DTEND;TZID=Europe/Amsterdam:20241221T170000
DTSTAMP:20260423T045628
CREATED:20241126T130200Z
LAST-MODIFIED:20241213T092402Z
UID:13256-1734793200-1734800400@milieudefensiejong.nl
SUMMARY:Unilevers Kerstmarkt 🎅🏻🎄
DESCRIPTION:Unilevers kerstmarkt: ontbossing\, greenwashing en een gelukkig nieuw jaar 🌠 \nWat is het idee?\nHet is bijna Kerst! 🎄 Een tijd van gezelligheid\, warmte\, lekker eten en samenkomen onder de boom. Precies de dingen waar het bedrijf Unilever ook voor staat\, toch? Nee\, toch niet. Deze bekende gigant voor levensmiddelen presenteert zich als een pionier op het gebied van duurzaamheid. In hun eigen woorden: ‘Leading in the next era of corporate sustainability’. Toch vallen de feiten nog altijd vies tegen. En precies die feiten wil Milieudefensie Jong laten zien. \nWant: we kunnen niet wachten. Grote vervuilende bedrijven moeten nú met een goed klimaatplan komen. En dat doet Unilever niet: \nIn 2022 stootte Unilever zo’n 111 miljoen ton CO2 uit. Dat betekent een klimaatschadebedrag van 16\,6 miljard!🤑\nZo’n 202.000 ton van de palmolie die Unilever gebruikt (per 2022) is nog niet ontbossingsvrij. 🎋 \nUnilever slokt bomen op als een pacman\, hij denkt dat dat alleen maar voordelen heeft. Zo gedraagt Unilever zich namelijk wel\, alle winst gaat naar zijn aandeelhouders: liefst €45\,8 miljard. De eigen plannen om klimaatschade te beperken\, daar houdt Unilever zich niet aan. Voor sommige delen van de uitstoot zoals scope 3 heeft Unilever niet eens een plan\, terwijl die voor maar liefst 98\,85% van de totale uitstoot zorgt. \nDaarom houden wij op zaterdag 21 december\, vlak voor Kerst\, Unilevers kerstmarkt in Rotterdam. Hier laten wij zien wat Unilevers kerstpakketje voor de aarde is: dode bomen\, valse beloftes en vooral veel cadeautjes voor de aandeelhouders. Kom gezellig langs\, sjoel Unilever in het klimaatdoel\, schrijf een kerstwens voor het bedrijf en hoor de schokkende facts over deze grootvervuiler.
URL:https://milieudefensiejong.nl/event/unilevers-kerstmarkt/
LOCATION:Rotterdam
CATEGORIES:Milieudefensie Jong
ATTACH;FMTTYPE=image/jpeg:https://milieudefensiejong.nl/wp-content/uploads/2024/11/unilever-kerstmarkt.jpg
END:VEVENT
END:VCALENDAR