BEGIN:VCALENDAR
VERSION:2.0
PRODID:-//Milieudefensie Jong - ECPv6.15.20//NONSGML v1.0//EN
CALSCALE:GREGORIAN
METHOD:PUBLISH
X-WR-CALNAME:Milieudefensie Jong
X-ORIGINAL-URL:https://milieudefensiejong.nl
X-WR-CALDESC:Evenementen voor Milieudefensie Jong
REFRESH-INTERVAL;VALUE=DURATION:PT1H
X-Robots-Tag:noindex
X-PUBLISHED-TTL:PT1H
BEGIN:VTIMEZONE
TZID:Europe/Amsterdam
BEGIN:DAYLIGHT
TZOFFSETFROM:+0100
TZOFFSETTO:+0200
TZNAME:CEST
DTSTART:20230326T010000
END:DAYLIGHT
BEGIN:STANDARD
TZOFFSETFROM:+0200
TZOFFSETTO:+0100
TZNAME:CET
DTSTART:20231029T010000
END:STANDARD
BEGIN:DAYLIGHT
TZOFFSETFROM:+0100
TZOFFSETTO:+0200
TZNAME:CEST
DTSTART:20240331T010000
END:DAYLIGHT
BEGIN:STANDARD
TZOFFSETFROM:+0200
TZOFFSETTO:+0100
TZNAME:CET
DTSTART:20241027T010000
END:STANDARD
BEGIN:DAYLIGHT
TZOFFSETFROM:+0100
TZOFFSETTO:+0200
TZNAME:CEST
DTSTART:20250330T010000
END:DAYLIGHT
BEGIN:STANDARD
TZOFFSETFROM:+0200
TZOFFSETTO:+0100
TZNAME:CET
DTSTART:20251026T010000
END:STANDARD
END:VTIMEZONE
BEGIN:VEVENT
DTSTART;TZID=Europe/Amsterdam:20241029T190000
DTEND;TZID=Europe/Amsterdam:20241029T210000
DTSTAMP:20260423T093648
CREATED:20241015T133208Z
LAST-MODIFIED:20241015T133307Z
UID:12898-1730228400-1730235600@milieudefensiejong.nl
SUMMARY:Knutselavond! ✏️🪧
DESCRIPTION:Knutselavond! ✏️🪧 \nDinsdag 29 november organiseren we een knutselavond! Onder het genot van snacks en drinks gaan we gezellig aan de slag om mooie bordjes te maken. Deze prachtige bordjes worden op zondag 3 november worden gebruikt voor een toffe foto en filmshoot rondom de uitspraak van het hoger beroep Shell. Kom je lekker knippen / tekenen / schilderen / collagen?  🌝🎨🪧🧶 \nProgramma\n19:00 – 19:15 inloop\n19:15 – 19:30 korte uitleg 🗣️\n19:30 – 21:00 aan de slag! 🪄 \nReiskosten worden vergoed!
URL:https://milieudefensiejong.nl/event/knutselavond-shell/
LOCATION:Het kantoor van Milieudefensie\, Willem Fenengastraat 19-23\, Amsterdam\, 1096 BL\, Netherlands
CATEGORIES:Kick-off
ATTACH;FMTTYPE=image/jpeg:https://milieudefensiejong.nl/wp-content/uploads/2024/10/RS70068_6K7A3097-scaled.jpg
END:VEVENT
END:VCALENDAR