BEGIN:VCALENDAR
VERSION:2.0
PRODID:-//Milieudefensie Jong - ECPv6.15.20//NONSGML v1.0//EN
CALSCALE:GREGORIAN
METHOD:PUBLISH
X-WR-CALNAME:Milieudefensie Jong
X-ORIGINAL-URL:https://milieudefensiejong.nl
X-WR-CALDESC:Evenementen voor Milieudefensie Jong
REFRESH-INTERVAL;VALUE=DURATION:PT1H
X-Robots-Tag:noindex
X-PUBLISHED-TTL:PT1H
BEGIN:VTIMEZONE
TZID:Europe/Amsterdam
BEGIN:DAYLIGHT
TZOFFSETFROM:+0100
TZOFFSETTO:+0200
TZNAME:CEST
DTSTART:20240331T010000
END:DAYLIGHT
BEGIN:STANDARD
TZOFFSETFROM:+0200
TZOFFSETTO:+0100
TZNAME:CET
DTSTART:20241027T010000
END:STANDARD
BEGIN:DAYLIGHT
TZOFFSETFROM:+0100
TZOFFSETTO:+0200
TZNAME:CEST
DTSTART:20250330T010000
END:DAYLIGHT
BEGIN:STANDARD
TZOFFSETFROM:+0200
TZOFFSETTO:+0100
TZNAME:CET
DTSTART:20251026T010000
END:STANDARD
BEGIN:DAYLIGHT
TZOFFSETFROM:+0100
TZOFFSETTO:+0200
TZNAME:CEST
DTSTART:20260329T010000
END:DAYLIGHT
BEGIN:STANDARD
TZOFFSETFROM:+0200
TZOFFSETTO:+0100
TZNAME:CET
DTSTART:20261025T010000
END:STANDARD
BEGIN:DAYLIGHT
TZOFFSETFROM:+0100
TZOFFSETTO:+0200
TZNAME:CEST
DTSTART:20270328T010000
END:DAYLIGHT
BEGIN:STANDARD
TZOFFSETFROM:+0200
TZOFFSETTO:+0100
TZNAME:CET
DTSTART:20271031T010000
END:STANDARD
END:VTIMEZONE
BEGIN:VEVENT
DTSTART;TZID=Europe/Amsterdam:20250403T190000
DTEND;TZID=Europe/Amsterdam:20250403T213000
DTSTAMP:20260425T134935
CREATED:20250126T150350Z
LAST-MODIFIED:20250323T093522Z
UID:13586-1743706800-1743715800@milieudefensiejong.nl
SUMMARY:Dé lancering van Kaarten tegen Klimaatstress 🃏🎖️
DESCRIPTION:Klimaatstress. We voelen het allemaal\, maar hoe praat je erover zonder dat het zwaar op de maag ligt? Wij hebben de oplossing: een spel dat dit urgente onderwerp bespreekbaar maakt met humor\, een vleugje cynisme en een flinke korrel zout! \nOp 3 april lanceren we dé must-have voor elke spelletjesavond: het gloednieuwe Kaarten tegen Klimaatstress-spel! Een unieke manier om samen te lachen\, leren en het gesprek over klimaatstress op gang te brengen. \nOnder het genot van een drankje en vegan borrelhap nemen wij jullie graag mee door het spel en spelen we het officiële spel voor de allereerste keer! \n⚠️ 📍 Het nieuwe Milieudefensie-kantoor! Willem Fenengastraat 19-23\, Amsterdam\n📅 ⏰ 3 april\, 19:00-21:30\n🥂✨ Inclusief drinks & borrelhapjes
URL:https://milieudefensiejong.nl/event/kaarten-tegen-klimaatstress-launch/
LOCATION:Het nieuwe Milieudefensie-kantoor!\, Willem Fenengastraat 19-23\, Amsterdam
CATEGORIES:Kick-off,Milieudefensie Jong
ATTACH;FMTTYPE=image/jpeg:https://milieudefensiejong.nl/wp-content/uploads/2025/01/RS71263_vlm_6815_53853793689_o.jpg
END:VEVENT
BEGIN:VEVENT
DTSTART;TZID=Europe/Amsterdam:20250911T183000
DTEND;TZID=Europe/Amsterdam:20250911T220000
DTSTAMP:20260425T134935
CREATED:20250710T134819Z
LAST-MODIFIED:20250828T144210Z
UID:14360-1757615400-1757628000@milieudefensiejong.nl
SUMMARY:Kick-off 2025-2026 MD Jong 💡
DESCRIPTION:Wil jij je dit campagnejaar (weer) aansluiten bij Milieudefensie Jong om betrokken te zijn bij al onze acties en events? Kom dan naar de kick-off op donderdag 11 september! Deze avond gaan we gezellig samen eten\, leren we je meer over Milieudefensie Jong (onze campagne\, onze acties en onze commissies) en hoe jij actief kunt worden/blijven. Ben je al langer actief bij Milieudefensie Jong? Dan kun je tijdens de introductie meedoen aan de brainstorm voor de grote actie tegen Ahold in het najaar. Meld je aan via het onderstaande formulier! \nProgramma (onder voorbehoud)\n18:15 – 18:30 Inloop\n18:30 – 19:00 Vegan eten\n19:00 – 20:00 Introductie MD Jong\n19:00 – 20:00 Brainstorm Ahold actie najaar\n20:00 – 21:30 Speeddaten teams\n21:30 – 22:00 Borrel! \nReiskosten worden vergoed!
URL:https://milieudefensiejong.nl/event/kick-off-2025-2026-md-jong/
LOCATION:Het nieuwe Milieudefensie-kantoor!\, Willem Fenengastraat 19-23\, Amsterdam
CATEGORIES:Kick-off
ATTACH;FMTTYPE=image/jpeg:https://milieudefensiejong.nl/wp-content/uploads/2025/05/RS71049_6K7A3192-scaled.jpg
END:VEVENT
BEGIN:VEVENT
DTSTART;TZID=Europe/Amsterdam:20260205T183000
DTEND;TZID=Europe/Amsterdam:20260205T220000
DTSTAMP:20260425T134935
CREATED:20260106T100534Z
LAST-MODIFIED:20260120T120343Z
UID:14664-1770316200-1770328800@milieudefensiejong.nl
SUMMARY:Kick-off 2026 🐛🫛🦋
DESCRIPTION:Wil jij je dit jaar (weer) aansluiten bij Milieudefensie Jong om betrokken te zijn bij al onze acties en events? Kom dan naar de kick-off op donderdag 5 februari! Deze avond gaan we gezellig samen eten\, leren we je meer over Milieudefensie Jong (onze campagne\, onze acties en onze commissies) en hoe jij actief kunt worden/blijven. Ben je al langer actief bij Milieudefensie Jong? Dan is er voor jou een apart programma. Meld je aan via het onderstaande formulier! \nProgramma\n18:15 – 18:30 Inloop\n18:30 – 19:00 Vegan eten\n19:00 – 19:15 Welkomspraatje\n19:15 – 19:45 Brainstorm sessie (Blije Koeiendag 1)\n19:45 – 20:30 Introductie MD Jong\n19:45 – 20:30 Impact/Feasibility sessie (Blije Koeiendag 2)\n20:30 – 21:30 Speeddaten teams\n21:30 – 22:00 Borrel! \nReiskosten worden vergoed!
URL:https://milieudefensiejong.nl/event/kick-off-2026-md-jong/
LOCATION:Het nieuwe Milieudefensie-kantoor!\, Willem Fenengastraat 19-23\, Amsterdam
CATEGORIES:Kick-off
ATTACH;FMTTYPE=image/jpeg:https://milieudefensiejong.nl/wp-content/uploads/2026/01/RS71107_DSC01543-scaled.jpg
END:VEVENT
END:VCALENDAR