BEGIN:VCALENDAR
VERSION:2.0
PRODID:-//Milieudefensie Jong - ECPv6.15.20//NONSGML v1.0//EN
CALSCALE:GREGORIAN
METHOD:PUBLISH
X-ORIGINAL-URL:https://milieudefensiejong.nl
X-WR-CALDESC:Evenementen voor Milieudefensie Jong
REFRESH-INTERVAL;VALUE=DURATION:PT1H
X-Robots-Tag:noindex
X-PUBLISHED-TTL:PT1H
BEGIN:VTIMEZONE
TZID:Europe/Amsterdam
BEGIN:DAYLIGHT
TZOFFSETFROM:+0100
TZOFFSETTO:+0200
TZNAME:CEST
DTSTART:20250330T010000
END:DAYLIGHT
BEGIN:STANDARD
TZOFFSETFROM:+0200
TZOFFSETTO:+0100
TZNAME:CET
DTSTART:20251026T010000
END:STANDARD
BEGIN:DAYLIGHT
TZOFFSETFROM:+0100
TZOFFSETTO:+0200
TZNAME:CEST
DTSTART:20260329T010000
END:DAYLIGHT
BEGIN:STANDARD
TZOFFSETFROM:+0200
TZOFFSETTO:+0100
TZNAME:CET
DTSTART:20261025T010000
END:STANDARD
BEGIN:DAYLIGHT
TZOFFSETFROM:+0100
TZOFFSETTO:+0200
TZNAME:CEST
DTSTART:20270328T010000
END:DAYLIGHT
BEGIN:STANDARD
TZOFFSETFROM:+0200
TZOFFSETTO:+0100
TZNAME:CET
DTSTART:20271031T010000
END:STANDARD
END:VTIMEZONE
BEGIN:VEVENT
DTSTART;TZID=Europe/Amsterdam:20260320T170000
DTEND;TZID=Europe/Amsterdam:20260322T200000
DTSTAMP:20260422T065616
CREATED:20260224T110404Z
LAST-MODIFIED:20260317T153950Z
UID:14791-1774026000-1774209600@milieudefensiejong.nl
SUMMARY:Expo Milieudefensie Jong
DESCRIPTION:Life & Art Post-Capitalism: vrijdag 20 maart t/m zondag 22 maart ✨  \nNa onze open call komt er natuurlijk een moment waar alle gekozen werken volop hun shine kunnen pakken: een expositie met op vrijdag 20 maart een grote opening in het Vrijpaleis! 🌍 Uit de werken zal een jury van ervaren kunstenaars een selectie maken die vervolgens een aanvullend platform krijgt aangeboden\, zoals (onder andere) een plek in een tentoonstelling van het Klimaatmuseum. Je kunt het hele weekend genieten van de inspirerende werken van verschillende jonge makers. Op zaterdag en zondag zullen er workshops en interessante talks zijn. Blok dit weekend dus alvast in je agenda en houdt onze socials in de gaten voor de precieze invulling! 🌞 \n  \nDit project heeft als doel klimaatrechtvaardigheid\, activisme en kunst samen te brengen. Milieudefensie (Jong) voert campagne tegen grote vervuilers\, en zet juridische stappen om de ergste gevolgen van klimaatverandering te voorkomen. Maar daar is de strijd nog niet mee gewonnen. Het volledige kapitalistische systeem\, dat zich berust op uitbuiting en vervuiling\, moet opnieuw worden opgebouwd om een rechtvaardige en groene planeet voor iedereen te realiseren. Daarom is jouw werk als kunstenaar zo essentieel\, en daarom bieden wij ruimte aan jonge kunstenaars om alternatieven voor kapitalistische manieren van leven te verkennen.
URL:https://milieudefensiejong.nl/event/expositie-weekend/
LOCATION:Het Vrijpaleis\, Paleisstraat 107\, Amsterdam\, Noord-Holland\, 1012 ZL\, Netherlands
ATTACH;FMTTYPE=image/png:https://milieudefensiejong.nl/wp-content/uploads/2026/02/Exhibition_poster_Print_A2_v2-1.pdf-scaled.png
END:VEVENT
END:VCALENDAR