BEGIN:VCALENDAR
VERSION:2.0
PRODID:-//Milieudefensie Jong - ECPv6.15.20//NONSGML v1.0//EN
CALSCALE:GREGORIAN
METHOD:PUBLISH
X-WR-CALNAME:Milieudefensie Jong
X-ORIGINAL-URL:https://milieudefensiejong.nl
X-WR-CALDESC:Evenementen voor Milieudefensie Jong
REFRESH-INTERVAL;VALUE=DURATION:PT1H
X-Robots-Tag:noindex
X-PUBLISHED-TTL:PT1H
BEGIN:VTIMEZONE
TZID:Europe/Amsterdam
BEGIN:DAYLIGHT
TZOFFSETFROM:+0100
TZOFFSETTO:+0200
TZNAME:CEST
DTSTART:20250330T010000
END:DAYLIGHT
BEGIN:STANDARD
TZOFFSETFROM:+0200
TZOFFSETTO:+0100
TZNAME:CET
DTSTART:20251026T010000
END:STANDARD
BEGIN:DAYLIGHT
TZOFFSETFROM:+0100
TZOFFSETTO:+0200
TZNAME:CEST
DTSTART:20260329T010000
END:DAYLIGHT
BEGIN:STANDARD
TZOFFSETFROM:+0200
TZOFFSETTO:+0100
TZNAME:CET
DTSTART:20261025T010000
END:STANDARD
BEGIN:DAYLIGHT
TZOFFSETFROM:+0100
TZOFFSETTO:+0200
TZNAME:CEST
DTSTART:20270328T010000
END:DAYLIGHT
BEGIN:STANDARD
TZOFFSETFROM:+0200
TZOFFSETTO:+0100
TZNAME:CET
DTSTART:20271031T010000
END:STANDARD
END:VTIMEZONE
BEGIN:VEVENT
DTSTART;TZID=Europe/Amsterdam:20260222T120000
DTEND;TZID=Europe/Amsterdam:20260222T170000
DTSTAMP:20260422T083234
CREATED:20260205T153117Z
LAST-MODIFIED:20260205T153117Z
UID:14755-1771761600-1771779600@milieudefensiejong.nl
SUMMARY:Unilever Actie ✊💥🌀
DESCRIPTION:Op zondag 22 februari gaan wij op plein/markt Binnenrotte (Rotterdam) met een interactieve actie bewustwording creëren over hoe Unilever winst maakt over de rug van mens en klimaat. Daarbij gaan wij het zogenaamd duurzame (greenwashing-) imago van Unilever ondermijnen door zichtbaar te maken hoeveel klimaatschade schuilgaat achter alledaagse producten die waarschijnlijk in de kastjes van vrijwel iedere consument liggen. Niet om de consument op de vingers te tikken\, maar om mensen te laten ontdekken hoe individuele producten samen onderdeel zijn van een destructief systeem. Een systeem dat in stand wordt gehouden door Unilevers huidige bedrijfsvoering en karige klimaatplan\, dat niet in lijn is met het Parijs Akkoord. \nDe actie bestaat uit drie onderdelen: \n\nEen ‘raad de impact’-spel over de bijdrage van Unilever-producten aan klimaatverandering (CO2e -uitstoot)\, ontbossing\, plasticvervuiling en mensenrechtenschendingen;\nEen informatieve impactmuur;\nDe mogelijkheid voor bezoekers om een boodschap achter te laten voor Unilever. Deze boodschappen zullen wij vervolgens persoonlijk afleveren bij het hoofdkantoor van Unilever\, op ongeveer tien minuten loopafstand van plein Binnenrotte.\n\nWil jij nou mee doen? Geef je hieronder op en Join hier alvast de Signal groep 😇 \n  \n\n\n📍 Waar: Binnenrotte plein\, Rotterdam\n🕖 Wanneer: Zondag 22 februari\, van 12.00 uur tot 17.00
URL:https://milieudefensiejong.nl/event/unilever-actie/
LOCATION:Binnenrotte plein\, Westnieuwland 7\, Rotterdam\, Zuid-Holland\, 3011 PB\, Netherlands
CATEGORIES:Actie,Milieudefensie Jong
ATTACH;FMTTYPE=image/jpeg:https://milieudefensiejong.nl/wp-content/uploads/2026/02/RS72222_MDJ_Unilever_Ava_2025_5-scaled.jpg
END:VEVENT
END:VCALENDAR