BEGIN:VCALENDAR
VERSION:2.0
PRODID:-//Milieudefensie Jong - ECPv6.15.20//NONSGML v1.0//EN
CALSCALE:GREGORIAN
METHOD:PUBLISH
X-WR-CALNAME:Milieudefensie Jong
X-ORIGINAL-URL:https://milieudefensiejong.nl
X-WR-CALDESC:Evenementen voor Milieudefensie Jong
REFRESH-INTERVAL;VALUE=DURATION:PT1H
X-Robots-Tag:noindex
X-PUBLISHED-TTL:PT1H
BEGIN:VTIMEZONE
TZID:Europe/Amsterdam
BEGIN:DAYLIGHT
TZOFFSETFROM:+0100
TZOFFSETTO:+0200
TZNAME:CEST
DTSTART:20240331T010000
END:DAYLIGHT
BEGIN:STANDARD
TZOFFSETFROM:+0200
TZOFFSETTO:+0100
TZNAME:CET
DTSTART:20241027T010000
END:STANDARD
BEGIN:DAYLIGHT
TZOFFSETFROM:+0100
TZOFFSETTO:+0200
TZNAME:CEST
DTSTART:20250330T010000
END:DAYLIGHT
BEGIN:STANDARD
TZOFFSETFROM:+0200
TZOFFSETTO:+0100
TZNAME:CET
DTSTART:20251026T010000
END:STANDARD
BEGIN:DAYLIGHT
TZOFFSETFROM:+0100
TZOFFSETTO:+0200
TZNAME:CEST
DTSTART:20260329T010000
END:DAYLIGHT
BEGIN:STANDARD
TZOFFSETFROM:+0200
TZOFFSETTO:+0100
TZNAME:CET
DTSTART:20261025T010000
END:STANDARD
END:VTIMEZONE
BEGIN:VEVENT
DTSTART;TZID=Europe/Amsterdam:20250510T120000
DTEND;TZID=Europe/Amsterdam:20250510T160000
DTSTAMP:20260422T224209
CREATED:20250424T101153Z
LAST-MODIFIED:20250508T111426Z
UID:14257-1746878400-1746892800@milieudefensiejong.nl
SUMMARY:Op bezoek bij de biodynamische boer 🧑‍🌾
DESCRIPTION:Met een grote Friesland Campina actie op komst\, vroegen wij ons af: kan het eigenlijk anders? Zijn er alternatieve vormen van landbouw\, die wel duurzaam zijn en waar Friesland Campina nog wat van zou kunnen leren?\nOp 10 mei gaan we daarom in gesprek met twee vrijwilligers van een biodynamische boerderij die aangesloten zijn bij het Land van Ons. Hoe gaan zij aan het werk? Op welke manier proberen zij het door intensieve veeteelt beschadigde land te herstellen? En wat vinden zij van de manier waarop cooperaties als Friesland Campina de wereld uitmelken? \nNa het gesprek met de boeren hebben we een nagesprek onder het genot van een vegan borrelplank\, inclusief vegan kaasplankje en andere vegan zuivelalternatieven 🐄 🌱 \nBen jij nou ook benieuwd naar de toekomst van de landbouw of heb jij er juist kritische vragen over? Kom met ons mee en stel ze! \nDit event vind buiten plaats. Het is dus aan te raden je duurzame diva outfit thuis te laten en je vooral op het weer te kleden! ☔️👒 \nMeld je hieronder aan. \n\n						\n						\n 
URL:https://milieudefensiejong.nl/event/op-bezoek-bij-de-boer/
LOCATION:Vertrek vanaf Amersfoort Centraal\, Stationsplein 41\, Amersfoort\, 3818 LE
ATTACH;FMTTYPE=image/jpeg:https://milieudefensiejong.nl/wp-content/uploads/2025/04/RS42512_MD-MD-BOER-IN-GESPREK-006-scaled.jpg
END:VEVENT
END:VCALENDAR