BEGIN:VCALENDAR
VERSION:2.0
PRODID:-//Milieudefensie Jong - ECPv6.15.20//NONSGML v1.0//EN
CALSCALE:GREGORIAN
METHOD:PUBLISH
X-ORIGINAL-URL:https://milieudefensiejong.nl
X-WR-CALDESC:Evenementen voor Milieudefensie Jong
REFRESH-INTERVAL;VALUE=DURATION:PT1H
X-Robots-Tag:noindex
X-PUBLISHED-TTL:PT1H
BEGIN:VTIMEZONE
TZID:Europe/Amsterdam
BEGIN:DAYLIGHT
TZOFFSETFROM:+0100
TZOFFSETTO:+0200
TZNAME:CEST
DTSTART:20240331T010000
END:DAYLIGHT
BEGIN:STANDARD
TZOFFSETFROM:+0200
TZOFFSETTO:+0100
TZNAME:CET
DTSTART:20241027T010000
END:STANDARD
BEGIN:DAYLIGHT
TZOFFSETFROM:+0100
TZOFFSETTO:+0200
TZNAME:CEST
DTSTART:20250330T010000
END:DAYLIGHT
BEGIN:STANDARD
TZOFFSETFROM:+0200
TZOFFSETTO:+0100
TZNAME:CET
DTSTART:20251026T010000
END:STANDARD
BEGIN:DAYLIGHT
TZOFFSETFROM:+0100
TZOFFSETTO:+0200
TZNAME:CEST
DTSTART:20260329T010000
END:DAYLIGHT
BEGIN:STANDARD
TZOFFSETFROM:+0200
TZOFFSETTO:+0100
TZNAME:CET
DTSTART:20261025T010000
END:STANDARD
END:VTIMEZONE
BEGIN:VEVENT
DTSTART;TZID=Europe/Amsterdam:20250417T183000
DTEND;TZID=Europe/Amsterdam:20250417T213000
DTSTAMP:20260423T000448
CREATED:20250325T124353Z
LAST-MODIFIED:20250410T101755Z
UID:14091-1744914600-1744925400@milieudefensiejong.nl
SUMMARY:AVA Debrief: Klimaatspelletjesavond 🍕🧩
DESCRIPTION:Op 17 april organiseert de communitycommissie een spelletjesavond  🎲 🧩. Hier kunnen we de AVA van Ahold Delhaize van 9 april nabespreken en gezellig samen spelletjes spelen onder het genot van pizza 🍕 Ook als je niet bij deze actie aanwezig kon zijn ben je natuurlijk van harte welkom! Naast het nieuwe spel Kaarten tegen Klimaatstress zullen wij ook zorgen voor andere (klimaatgerelateerde) spelletjes\, maar voel je vrij om zelf leuke spellen mee te nemen 😎 . Meld je hieronder even aan zodat we weten hoeveel pizza we moeten regelen 🧑‍🍳 \nLet op! Dit evenement vindt plaats op het nieuwe kantoor van Milieudefensie vanaf 18:30. Willem Fenengastraat 19-23\, ingang aan het Isaäc Asscherpad. \n\n						\n						\n 
URL:https://milieudefensiejong.nl/event/klimaatspelletjesavond/
LOCATION:Het nieuwe Milieudefensie-kantoor!\, Willem Fenengastraat 19-23\, Amsterdam
ATTACH;FMTTYPE=image/jpeg:https://milieudefensiejong.nl/wp-content/uploads/2025/03/RS71258_vlm_6867_53852541202_o.jpg
END:VEVENT
END:VCALENDAR