BEGIN:VCALENDAR
VERSION:2.0
PRODID:-//Milieudefensie Jong - ECPv6.15.20//NONSGML v1.0//EN
CALSCALE:GREGORIAN
METHOD:PUBLISH
X-ORIGINAL-URL:https://milieudefensiejong.nl
X-WR-CALDESC:Evenementen voor Milieudefensie Jong
REFRESH-INTERVAL;VALUE=DURATION:PT1H
X-Robots-Tag:noindex
X-PUBLISHED-TTL:PT1H
BEGIN:VTIMEZONE
TZID:Europe/Amsterdam
BEGIN:DAYLIGHT
TZOFFSETFROM:+0100
TZOFFSETTO:+0200
TZNAME:CEST
DTSTART:20240331T010000
END:DAYLIGHT
BEGIN:STANDARD
TZOFFSETFROM:+0200
TZOFFSETTO:+0100
TZNAME:CET
DTSTART:20241027T010000
END:STANDARD
BEGIN:DAYLIGHT
TZOFFSETFROM:+0100
TZOFFSETTO:+0200
TZNAME:CEST
DTSTART:20250330T010000
END:DAYLIGHT
BEGIN:STANDARD
TZOFFSETFROM:+0200
TZOFFSETTO:+0100
TZNAME:CET
DTSTART:20251026T010000
END:STANDARD
BEGIN:DAYLIGHT
TZOFFSETFROM:+0100
TZOFFSETTO:+0200
TZNAME:CEST
DTSTART:20260329T010000
END:DAYLIGHT
BEGIN:STANDARD
TZOFFSETFROM:+0200
TZOFFSETTO:+0100
TZNAME:CET
DTSTART:20261025T010000
END:STANDARD
END:VTIMEZONE
BEGIN:VEVENT
DTSTART;TZID=Europe/Amsterdam:20250313T180000
DTEND;TZID=Europe/Amsterdam:20250313T180000
DTSTAMP:20260423T014125
CREATED:20250303T122118Z
LAST-MODIFIED:20250303T123101Z
UID:13936-1741888800-1741888800@milieudefensiejong.nl
SUMMARY:In gesprek met VN Jongerenvertegenwoordigers 🌿🤝
DESCRIPTION:Op donderdag 13 maart komen de twee VN Jongerenvertegenwoordigers voor Duurzame Ontwikkeling (Sarah Nasrawi en Tommy Blomvliet)  langs op het kantoor van Milieudefensie. Zij vertegenwoordigen de stem van Nederlandse jongeren in nationale en internationale politiek. Dit is een vrij grote klus\, met de vraag: wat vinden Nederlandse jongeren? Hierom proberen ze veel verschillende jongerenorganisaties\, instituten en politieke partijen te spreken. Ze willen graag met ons in gesprek over klimaatrechtvaardigheid in de voedselsector. \nDeze input kunnen zij meenemen naar de nationale en internationale politiek. Dit doen zij onder andere door jaarlijks in gesprek te gaan met de Minister voor Klimaat en Groene Groei en als onderdeel van de Nederlandse delegatie naar de VN-klimaattoppen. Hoe meer jongeren ze spreken\, hoe beter ze die stem kunnen laten horen! \n\n\n\n⏰ Programma:\n18.00 – 18.15 inloop\n18.15 – 18.50 eten\n18.50 – 19.00 opruimen + inloop voor mensen die niet mee eten\n19.00 – 21.00 input sessie\n\n21.00 – 21.45 kleine borrel \n⬇️ Meld je aan!
URL:https://milieudefensiejong.nl/event/input-vn-jongeren/
LOCATION:Het kantoor van Milieudefensie\, Willem Fenengastraat 19-23\, Amsterdam\, 1096 BL\, Netherlands
ATTACH;FMTTYPE=image/jpeg:https://milieudefensiejong.nl/wp-content/uploads/2025/03/RS71931_DSC06161-scaled.jpg
END:VEVENT
END:VCALENDAR