BEGIN:VCALENDAR
VERSION:2.0
PRODID:-//Milieudefensie Jong - ECPv6.15.20//NONSGML v1.0//EN
CALSCALE:GREGORIAN
METHOD:PUBLISH
X-ORIGINAL-URL:https://milieudefensiejong.nl
X-WR-CALDESC:Evenementen voor Milieudefensie Jong
REFRESH-INTERVAL;VALUE=DURATION:PT1H
X-Robots-Tag:noindex
X-PUBLISHED-TTL:PT1H
BEGIN:VTIMEZONE
TZID:Europe/Amsterdam
BEGIN:DAYLIGHT
TZOFFSETFROM:+0100
TZOFFSETTO:+0200
TZNAME:CEST
DTSTART:20240331T010000
END:DAYLIGHT
BEGIN:STANDARD
TZOFFSETFROM:+0200
TZOFFSETTO:+0100
TZNAME:CET
DTSTART:20241027T010000
END:STANDARD
BEGIN:DAYLIGHT
TZOFFSETFROM:+0100
TZOFFSETTO:+0200
TZNAME:CEST
DTSTART:20250330T010000
END:DAYLIGHT
BEGIN:STANDARD
TZOFFSETFROM:+0200
TZOFFSETTO:+0100
TZNAME:CET
DTSTART:20251026T010000
END:STANDARD
BEGIN:DAYLIGHT
TZOFFSETFROM:+0100
TZOFFSETTO:+0200
TZNAME:CEST
DTSTART:20260329T010000
END:DAYLIGHT
BEGIN:STANDARD
TZOFFSETFROM:+0200
TZOFFSETTO:+0100
TZNAME:CET
DTSTART:20261025T010000
END:STANDARD
END:VTIMEZONE
BEGIN:VEVENT
DTSTART;TZID=Europe/Amsterdam:20250130T183000
DTEND;TZID=Europe/Amsterdam:20250130T220000
DTSTAMP:20260423T031531
CREATED:20250109T133924Z
LAST-MODIFIED:20250129T142732Z
UID:13562-1738261800-1738274400@milieudefensiejong.nl
SUMMARY:Kick-off 2025 + Input ABP ✨
DESCRIPTION:Wil jij je in 2025 aansluiten bij Milieudefensie Jong om betrokken te zijn bij al onze acties en events? Kom dan naar de kick-off op donderdag 30 januari! Deze avond gaan we gezellig samen eten\, leren we je meer over Milieudefensie Jong (onze campagne\, onze acties en onze commissies\, lokale groepen en projectteams) en hoe jij actief kunt worden/blijven. Ook als je al langer actief bent\, ben je van harte welkom\, want op deze avond gaan we samen input geven op het Algemeen Beleidsplan van Milieudefensie 2025-2030. Dus nu kun je je stem laten horen in de koers van Milieudefensie voor de komende vijf jaar! Meld je aan via het onderstaande formulier! \n\n						\n						\nProgramma\n18:15 – 18:30 Inloop\n18:30 – 19:15 Vegan eten\n19:15 – 19:30 Welkom\n19:30 – 20:30 Optie 1: Input ABP\n19:30 – 20:00 Optie 2: Kennismaking met MD Jong\n20:30 – 21:00 Speeddaten \nReiskosten worden vergoed!
URL:https://milieudefensiejong.nl/event/kick-off-2025-abp/
LOCATION:Het kantoor van Milieudefensie\, Willem Fenengastraat 19-23\, Amsterdam\, 1096 BL\, Netherlands
CATEGORIES:Kick-off
ATTACH;FMTTYPE=image/jpeg:https://milieudefensiejong.nl/wp-content/uploads/2024/07/Kick-Off-Event.jpg
END:VEVENT
END:VCALENDAR