BEGIN:VCALENDAR
VERSION:2.0
PRODID:-//Milieudefensie Jong - ECPv6.15.20//NONSGML v1.0//EN
CALSCALE:GREGORIAN
METHOD:PUBLISH
X-WR-CALNAME:Milieudefensie Jong
X-ORIGINAL-URL:https://milieudefensiejong.nl
X-WR-CALDESC:Evenementen voor Milieudefensie Jong
REFRESH-INTERVAL;VALUE=DURATION:PT1H
X-Robots-Tag:noindex
X-PUBLISHED-TTL:PT1H
BEGIN:VTIMEZONE
TZID:Europe/Amsterdam
BEGIN:DAYLIGHT
TZOFFSETFROM:+0100
TZOFFSETTO:+0200
TZNAME:CEST
DTSTART:20230326T010000
END:DAYLIGHT
BEGIN:STANDARD
TZOFFSETFROM:+0200
TZOFFSETTO:+0100
TZNAME:CET
DTSTART:20231029T010000
END:STANDARD
BEGIN:DAYLIGHT
TZOFFSETFROM:+0100
TZOFFSETTO:+0200
TZNAME:CEST
DTSTART:20240331T010000
END:DAYLIGHT
BEGIN:STANDARD
TZOFFSETFROM:+0200
TZOFFSETTO:+0100
TZNAME:CET
DTSTART:20241027T010000
END:STANDARD
BEGIN:DAYLIGHT
TZOFFSETFROM:+0100
TZOFFSETTO:+0200
TZNAME:CEST
DTSTART:20250330T010000
END:DAYLIGHT
BEGIN:STANDARD
TZOFFSETFROM:+0200
TZOFFSETTO:+0100
TZNAME:CET
DTSTART:20251026T010000
END:STANDARD
END:VTIMEZONE
BEGIN:VEVENT
DTSTART;TZID=Europe/Amsterdam:20241212T190000
DTEND;TZID=Europe/Amsterdam:20241212T213000
DTSTAMP:20260423T062547
CREATED:20241121T130430Z
LAST-MODIFIED:20241211T215653Z
UID:13244-1734030000-1734039000@milieudefensiejong.nl
SUMMARY:🌐 MDJ x ILM: COP Aftertalks 🌐
DESCRIPTION:[This event is in English\, Dutch info below] \nAre you curious about what exactly happens at COP and what challenges youth and indigenous peoples face in making their voices heard? Indigenous Liberation Movement and Milieudefensie Jong have come together to raise awareness about these challenges. \nThe COP is the largest climate conference in the world\, and this year marks its 29th edition. World leaders\, major financial institutions\, NGOs\, and activist groups gather to help decide global climate policy.\nBut how does COP actually work? Who exactly attends\, and with what intentions? What decisions are made\, and who makes them? And how should we interpret the results of COP29? \nOn December 12\, we will dive into these questions and many more with two different panels of experts and activists. A key focus will be on the representation of youth and indigenous peoples. The event is held in English. \nPanel I: Understanding COP \n\nDaniëlle Hirsch\, Member of Parliament for GroenLinks-PvdA\, responsible for International Trade and Development Cooperation\nPieter Pauw\, Senior Researcher and Policy Advisor in international climate policy at the Clingendael Institute and TU/e\nChautuileo Tranamil\, Indigenous Activist and Co-founder of the Indigenous Liberation Movement\n\nPanel II: Who is heard at COP? And who is not? \n\nMyra Colis\, Advocate for Women’s and Indigenous People’s Rights at MABIKAs Foundation\nMert Kumru\, Campaigner at World’s Youth for Climate\nMelati Wijsen\, Founder of Youthtopia\, Bye Bye Plastic Bags\, Mountain Mamas\, among other initiatives\n\nLocation: Halvemaanpassage 90\, Rotterdam \nTime: 19:30 – 21:30 (walk-in at 19:00) \nThe event is completely free of charge but we encourage you to make a donation to Indigenous Liberation Movement to sponsor their trip to COP30. We will provide you with delicious bites. \nWe look forward to seeing you there! 🌱 \nClick here to sign up! \n[DUTCH] \nBen je benieuwd naar wat er precies op de COP gebeurt en wat de uitdagingen zijn voor jongeren en inheemsen om hun stem te laten horen? Indigenous Liberation Movement en Milieudefensie Jong hebben de handen ineen geslagen om meer mensen hiervan bewust te maken. \nDe COP is de grootste klimaatconferentie ter wereld en dit jaar is de 29e editie. Wereldleiders\, grote financiële instellingen\, NGO’s en actiegroepen komen erop af om mee te beslissen over mondiaal klimaatbeleid. \nMaar hoe werkt de COP eigenlijk? Wie komen er precies naartoe\, en met welke bedoelingen? Wat wordt er besloten en wie maken die beslissingen? En hoe moeten we de resultaten van COP29 interpreteren? \nOp 12 december zullen wij met twee verschillende panels van experts en ervaringsdeskundigen op deze vragen en nog veel meer ingaan. Daarbij staat de representatie van jongeren en inheemse volkeren centraal. Het evenement is in het Engels. \nPanel I: Understanding COP \n\nDaniëlle Hirsch\, Kamerlid Groenlinks-PvdA met portefeuille Internationale Handel en Ontwikkelingssamenwerking\nPieter Pauw\, senior researcher and policy advisor op het gebied van internationaal klimaatbeleid bij Instituut Clingendael en de TU/e\nChautuileo Tranamil\, inheemse activist en mede-oprichter Indigenous Liberation Movement\n\nPanel II: who is heard at COP? And who is not? \n\nMyra Colis\, inheemse activist em advocate for women’s and Indigenous People’s Rights bij stichting MABIKAs\nMert Kumru\, campaigner World’s Youth for Climate\nMelati Wijsen\, onder andere oprichter van Youthtopia\, Bye Bye Plastic Bags\, Mountain Mamas\n\nLocatie: Halvemaanpassage 90\, Rotterdam \nTijd: 19:30 – 21:30 (inloop 19:00) \nDit evenement is helemaal gratis maar we moedigen je aan om een donatie te doen. Hiermee sponsor je de reis van inheemse activisten naar COP30. Wij verzorgen voor iedereen heerlijke hapjes! \nWe zien je graag daar! 🌱 \nKlik hier om je aan te melden! \n 
URL:https://milieudefensiejong.nl/event/mdj-x-ilm-cop/
LOCATION:Halvemaanpassage 90\, Rotterdam
CATEGORIES:Milieudefensie Jong
ATTACH;FMTTYPE=image/png:https://milieudefensiejong.nl/wp-content/uploads/2024/11/cop-after.png
END:VEVENT
END:VCALENDAR