BEGIN:VCALENDAR
VERSION:2.0
PRODID:-//Milieudefensie Jong - ECPv6.15.20//NONSGML v1.0//EN
CALSCALE:GREGORIAN
METHOD:PUBLISH
X-ORIGINAL-URL:https://milieudefensiejong.nl
X-WR-CALDESC:Evenementen voor Milieudefensie Jong
REFRESH-INTERVAL;VALUE=DURATION:PT1H
X-Robots-Tag:noindex
X-PUBLISHED-TTL:PT1H
BEGIN:VTIMEZONE
TZID:Europe/Amsterdam
BEGIN:DAYLIGHT
TZOFFSETFROM:+0100
TZOFFSETTO:+0200
TZNAME:CEST
DTSTART:20230326T010000
END:DAYLIGHT
BEGIN:STANDARD
TZOFFSETFROM:+0200
TZOFFSETTO:+0100
TZNAME:CET
DTSTART:20231029T010000
END:STANDARD
BEGIN:DAYLIGHT
TZOFFSETFROM:+0100
TZOFFSETTO:+0200
TZNAME:CEST
DTSTART:20240331T010000
END:DAYLIGHT
BEGIN:STANDARD
TZOFFSETFROM:+0200
TZOFFSETTO:+0100
TZNAME:CET
DTSTART:20241027T010000
END:STANDARD
BEGIN:DAYLIGHT
TZOFFSETFROM:+0100
TZOFFSETTO:+0200
TZNAME:CEST
DTSTART:20250330T010000
END:DAYLIGHT
BEGIN:STANDARD
TZOFFSETFROM:+0200
TZOFFSETTO:+0100
TZNAME:CET
DTSTART:20251026T010000
END:STANDARD
END:VTIMEZONE
BEGIN:VEVENT
DTSTART;TZID=Europe/Amsterdam:20241122T190000
DTEND;TZID=Europe/Amsterdam:20241122T220000
DTSTAMP:20260423T093708
CREATED:20241111T163027Z
LAST-MODIFIED:20241111T163544Z
UID:13214-1732302000-1732312800@milieudefensiejong.nl
SUMMARY:🏞️ MDJ x ILM filmavond 🏞️
DESCRIPTION:22 november organiseert MD Jong samen met Indigenous Liberation Movement de filmavond I am the river\, the river is me (2024) !! Het tweede evenement in een reeks om meer kennis en verdieping te geven over Indigenous. Kom jij ook? \nDe film I am the river\, the river is me (door Petr Lom) gaat over het spanningsveld tussen inheemse rechten en natuurrechten. Na de vertoning gaan we in gesprek over indigenous\, ons denken over natuur en cultuur en meer! \nDe avond vindt plaats bij MuntMeesters op Leidsekade 117 in Utrecht. Wij zorgen voor popcorn en een drankje! \nMeld je hier aan! \nAgenda:\n19.00 inloop\n19.15 welkom en intro\n19.30 film vertoning en nabespreking\n22.00 eind \n 
URL:https://milieudefensiejong.nl/event/mdj-x-ilm-filmavond/
LOCATION:Muntmeesters\, Leidsekade 117\, Utrecht
CATEGORIES:Milieudefensie Jong
ATTACH;FMTTYPE=image/jpeg:https://milieudefensiejong.nl/wp-content/uploads/2024/11/I-Am-the-River-The-River-is-Me_st_3_jpg_sd-low.jpg
END:VEVENT
END:VCALENDAR